BEGIN:VCALENDAR
VERSION:2.0
PRODID:Events Booking
BEGIN:VEVENT
UID:69e730c6a8d8c
SUMMARY:Synchronsprechen-für Einsteiger und Schauspieler (2 Tage) 
DESCRIPTION:Synchronisation - die Stimme zählt. Hier ist der Akteur nicht 
 zu sehen\, aber zu hören. Ihr werdet in die Welt des Synchronsprechens ei
 ngeführt und könnt euch selber ausprobieren. Wie gelingt es\, mit der St
 imme und dem was man erzählt einen Zuhörer/Zuschauer zu fesseln und mitz
 unehmen. 
  
LOCATION:Brauweilerstraße 14 50859 Köln
DTSTART:20260228T090000Z
DTEND:20260301T160000Z
DTSTAMP:20251103T154804Z
ORGANIZER;CN=service@actingcenter.de:MAILTO:Acting Center 
GEO:50.944014;6.832453
X-APPLE-STRUCTURED-LOCATION;VALUE=URI;X-ADDRESS=Brauweilerstraße 14 50859 
 Köln;X-APPLE-RADIUS=72;X-TITLE=Acting Center (Alte Jugendstilvilla):50.94
 4014;6.832453
END:VEVENT
END:VCALENDAR