BEGIN:VCALENDAR
VERSION:2.0
PRODID:Events Booking
BEGIN:VEVENT
UID:69e7325de0560
SUMMARY:Camera-Acting-Workshop (Teens) 
DESCRIPTION:Erste Erfahrungen im Camera Acting sammeln.
 Mit viel Zeit\, s
 pielerischen Übungen und einfühlsamer Anleitung bewegt Ihr euch durch de
 n Tag. Anfängliche Hemmungen fallen und ihr werdet immer locker auch im s
 zenischen Spiel. Ihr entdeckt\, dass die Kamera ein guter Begleiter für E
 uch ist. Wichtigste Voraussetzung: lasst euch für einen Tag darauf ein. 
 
 In unserem bunt gemischten Schauspiel Workshop von 13–18 Jahren lernt
  ihr zusammen mit anderen Jugendlichen die Grundlagen des Camera Actings.
LOCATION:Brauweilerstraße 14 50859 Köln
DTSTART:20241013T090000Z
DTEND:20241013T150000Z
DTSTAMP:20260421T101629Z
ORGANIZER;CN=service@actingcenter.de:MAILTO:Acting Center 
GEO:50.944014;6.832453
X-APPLE-STRUCTURED-LOCATION;VALUE=URI;X-ADDRESS=Brauweilerstraße 14 50859 
 Köln;X-APPLE-RADIUS=72;X-TITLE=Acting Center (Alte Jugendstilvilla):50.94
 4014;6.832453
END:VEVENT
END:VCALENDAR