BEGIN:VCALENDAR
VERSION:2.0
PRODID:Events Booking
BEGIN:VEVENT
UID:69e747734174f
SUMMARY:Wir machen Dich fit fürs CASTING
DESCRIPTION:Der Tagesworkshop vermittelt dir Präsenztraining vor der Kamer
 a\, eröffnet dir Raum und Einblicke in Castingsituationen und du entfalte
 st dich und dein Talent. Dieser Workshop richtet sich an Kinder und Ihre E
 ltern\, die sich gerne auf Casting-Aufrufe bewerben wollen. 
 Jeweils ein
  Elternteil mit Kind können an dem Workshop teilnehmen.
LOCATION:Brauweilerstraße 14 50859 Köln
DTSTART:20260307T090000Z
DTEND:20260307T150000Z
DTSTAMP:20251111T093333Z
ORGANIZER;CN=service@actingcenter.de:MAILTO:Acting Center 
GEO:50.944014;6.832453
X-APPLE-STRUCTURED-LOCATION;VALUE=URI;X-ADDRESS=Brauweilerstraße 14 50859 
 Köln;X-APPLE-RADIUS=72;X-TITLE=Acting Center (Alte Jugendstilvilla):50.94
 4014;6.832453
END:VEVENT
END:VCALENDAR