BEGIN:VCALENDAR
VERSION:2.0
PRODID:Events Booking
BEGIN:VEVENT
UID:69e494a9080e8
SUMMARY:\"Yoga für Alle\"          Anmeldung: info@holonayoga.de
DESCRIPTION:
DTSTART:20260330T170000Z
DTEND:20260330T180000Z
DTSTAMP:20260311T084954Z
ORGANIZER;CN=service@actingcenter.de:MAILTO:Acting Center 
END:VEVENT
END:VCALENDAR